BEGIN:VCALENDAR
VERSION:2.0
PRODID:-//Texas Association of Hostage Negotiators - ECPv6.15.20//NONSGML v1.0//EN
CALSCALE:GREGORIAN
METHOD:PUBLISH
X-ORIGINAL-URL:https://tahn.org
X-WR-CALDESC:Events for Texas Association of Hostage Negotiators
REFRESH-INTERVAL;VALUE=DURATION:PT1H
X-Robots-Tag:noindex
X-PUBLISHED-TTL:PT1H
BEGIN:VTIMEZONE
TZID:America/Chicago
BEGIN:DAYLIGHT
TZOFFSETFROM:-0600
TZOFFSETTO:-0500
TZNAME:CDT
DTSTART:20240310T080000
END:DAYLIGHT
BEGIN:STANDARD
TZOFFSETFROM:-0500
TZOFFSETTO:-0600
TZNAME:CST
DTSTART:20241103T070000
END:STANDARD
BEGIN:DAYLIGHT
TZOFFSETFROM:-0600
TZOFFSETTO:-0500
TZNAME:CDT
DTSTART:20250309T080000
END:DAYLIGHT
BEGIN:STANDARD
TZOFFSETFROM:-0500
TZOFFSETTO:-0600
TZNAME:CST
DTSTART:20251102T070000
END:STANDARD
BEGIN:DAYLIGHT
TZOFFSETFROM:-0600
TZOFFSETTO:-0500
TZNAME:CDT
DTSTART:20260308T080000
END:DAYLIGHT
BEGIN:STANDARD
TZOFFSETFROM:-0500
TZOFFSETTO:-0600
TZNAME:CST
DTSTART:20261101T070000
END:STANDARD
END:VTIMEZONE
BEGIN:VEVENT
DTSTART;VALUE=DATE:20250623
DTEND;VALUE=DATE:20250628
DTSTAMP:20260419T103554
CREATED:20250306T225720Z
LAST-MODIFIED:20250501T153315Z
UID:10000005-1750636800-1751068799@tahn.org
SUMMARY:Region 4 – 40 Hour Hostage/Crisis Negotiation Course – Temple
DESCRIPTION:This 40-hour course introduces the skillsets to prepare Law Enforcement personnel to become crisis/hostage negotiators. Upon completing this course\, the new negotiator will have an essential understanding of team roles in crisis/hostage negotiations and should be able to perform in any hostage negotiator team member role. This course meets standards set forth by TCOLE and by the State of Texas for wiretap warrants. The class cost is $300 which includes a 1-year TAHN membership. \nThis course covers the following and more: \n\nHistory of Negotiations\nCharacteristics of a Negotiable Incident and Stages of an Incident\nActive Listening and Communication Skills\nHandling Demands\, Effects of Time\nRecognizing Psychological\, Mental and Emotional disorders\, how to recognize them and deal with them\, including Stockholm Syndrome\nThe Effects of Stress\, Stages of Stress and Stress in the Hostage Situation\nTeam Structure\nIntelligence Coordination\nA full day of Realistic Scenarios and Scenario Training\n\nThis training is being provided to local\, state and federal law enforcement personnel which includes law enforcement officers/agents\, peace officers\, detention/corrections officers or communication officers who have a demonstrated professional interest in hostage/crisis negotiations. Identification will be required showing your affiliation with a federal\, state or local law enforcement agency at the beginning of the training.
URL:https://tahn.org/event/region-4-40-hour-hostage-crisis-negotiation-course-temple/
LOCATION:Temple Police Department\, Temple Police Department Community Room 209 East Avenue A Temple\,\, TX\, 76501\, United States
END:VEVENT
END:VCALENDAR