BEGIN:VCALENDAR
VERSION:2.0
PRODID:-//Texas Association of Hostage Negotiators - ECPv6.15.20//NONSGML v1.0//EN
CALSCALE:GREGORIAN
METHOD:PUBLISH
X-ORIGINAL-URL:https://tahn.org
X-WR-CALDESC:Events for Texas Association of Hostage Negotiators
REFRESH-INTERVAL;VALUE=DURATION:PT1H
X-Robots-Tag:noindex
X-PUBLISHED-TTL:PT1H
BEGIN:VTIMEZONE
TZID:America/Chicago
BEGIN:DAYLIGHT
TZOFFSETFROM:-0600
TZOFFSETTO:-0500
TZNAME:CDT
DTSTART:20240310T080000
END:DAYLIGHT
BEGIN:STANDARD
TZOFFSETFROM:-0500
TZOFFSETTO:-0600
TZNAME:CST
DTSTART:20241103T070000
END:STANDARD
BEGIN:DAYLIGHT
TZOFFSETFROM:-0600
TZOFFSETTO:-0500
TZNAME:CDT
DTSTART:20250309T080000
END:DAYLIGHT
BEGIN:STANDARD
TZOFFSETFROM:-0500
TZOFFSETTO:-0600
TZNAME:CST
DTSTART:20251102T070000
END:STANDARD
BEGIN:DAYLIGHT
TZOFFSETFROM:-0600
TZOFFSETTO:-0500
TZNAME:CDT
DTSTART:20260308T080000
END:DAYLIGHT
BEGIN:STANDARD
TZOFFSETFROM:-0500
TZOFFSETTO:-0600
TZNAME:CST
DTSTART:20261101T070000
END:STANDARD
BEGIN:DAYLIGHT
TZOFFSETFROM:-0600
TZOFFSETTO:-0500
TZNAME:CDT
DTSTART:20270314T080000
END:DAYLIGHT
BEGIN:STANDARD
TZOFFSETFROM:-0500
TZOFFSETTO:-0600
TZNAME:CST
DTSTART:20271107T070000
END:STANDARD
END:VTIMEZONE
BEGIN:VEVENT
DTSTART;TZID=America/Chicago:20260330T080000
DTEND;TZID=America/Chicago:20260331T170000
DTSTAMP:20260421T085253
CREATED:20251230T215412Z
LAST-MODIFIED:20251230T221900Z
UID:10000019-1774857600-1774976400@tahn.org
SUMMARY:Region 1 - Advanced Crisis Negotiation Class for Team Leaders - Mesquite
DESCRIPTION:This 2 day advanced crisis negotiation class is specifically designed for both new and veteran team leaders.  It will equip participants with critical skills for effective crisis team management.  The class delves into essential areas such as Team Selection and Training\, ensuring leaders can built and maintain a cohesive and responsive team.  Furthermore\, the curriculum covers the diverse duties of a Team Leader\, including strategic planning\, communication tactics and decision making under pressure.  This course is a valuable resource for anyone looking to elevate their crisis negotiation leadership skills. \nDATE:  March 30 – 31\, 2026 \nLOCATION:  Mesquite Police Department\, 777 N Galloway Avenue\, Mesquite\, TX 75149 \nCOST:  $120.00 \n  \nFor further information or questions\, please contact: \nJoseph Thompson \nTAHN Region 1 VP \nregion1@tahn.org \nCell phone 972-4630-6430
URL:https://tahn.org/event/region-1-advanced-crisis-negotiation-class-for-team-leaders-mesquite/
LOCATION:Mesquite Police Department\, 777 N Galloway Avenue\, Mesquite\, TX\, 75149\, United States
CATEGORIES:Region 1
ORGANIZER;CN="Texas Association of Hostage Negotiators":MAILTO:region1@tahn.org
END:VEVENT
BEGIN:VEVENT
DTSTART;TZID=America/Chicago:20260216T080000
DTEND;TZID=America/Chicago:20260220T170000
DTSTAMP:20260421T085253
CREATED:20250722T213601Z
LAST-MODIFIED:20251229T195009Z
UID:10000014-1771228800-1771606800@tahn.org
SUMMARY:Region 1 - 40 Hour Hostage/Crisis Negotiation Course - Murphy
DESCRIPTION:This 40 hour course introduces the skillsets to prepare Law Enforcement personnel to become crisis/hostage negotiators.  Upon completing this course\, the new negotiator will have an essential understanding of team roles in crisis/hostage negotiations and should be able to perform any hostage negotiator team member role.  This course meets standards set forth by TCOLE and by the State of Texas for wiretap warrants.  The class cost is $300 which includes a 1-year TAHN membership. \nThis course covers the following and more: \n\nHistory of Negotiations\nCharacteristics of a Negotiable Incident and Stages of an Incident\nActive Listening and Communication Skills\nHandling Demands\, Effects of Time\nRecognizing Psychological\, Mental and Emotional Disorders\, how to recognize them and deal with them\, including Stockholm Syndrome\nThe Effects of Stress\, Stages of Stress and Stress in the Hostage Situation\nTeam Structure\nIntelligence Coordination\nA full day of Realistic Scenarios and Scenario Training\n\nThis training is being provided to local\, state and federal law enforcement personnel which includes law enforcement officers/agents\, peace officers\, detention/corrections officers or communications officers who have a demonstrated professional interest in hostage/crisis negotiations.  Identification will be required showing your affiliation with a federal\, state or local law enforcement agency at the beginning of the training. \nFor questions or issues please contact: \nJoseph Thompson \nTAHN Region 1 VP \nregion1@tahn.org \nCell: 972-463-6430 \n  \n  \n 
URL:https://tahn.org/event/region-1-40-hour-hostage-crisis-negotiation-course-murphy/
LOCATION:Murphy Police Department\, 206 N Murphy Road\, Murphy\, TX\, 75094\, United States
CATEGORIES:Region 1
ORGANIZER;CN="Texas Association of Hostage Negotiators":MAILTO:region1@tahn.org
END:VEVENT
BEGIN:VEVENT
DTSTART;TZID=America/Chicago:20251203T080000
DTEND;TZID=America/Chicago:20251204T170000
DTSTAMP:20260421T085253
CREATED:20250909T191511Z
LAST-MODIFIED:20250909T192129Z
UID:10000017-1764748800-1764867600@tahn.org
SUMMARY:Region 1 - Critical Incident Training for Telecommunications Officers
DESCRIPTION:The goal of this course is to provide Texas Police Telecommunications Officers with vital information in dealing with critical incidents.  Provide telecommunication officers with information about how all levels of critical incidents are managed during the course of a situation.  Help telecommunicators understand what is going on that they do not see but also recognize the role they play in handling a critical situation.  By the end of the course\, telecommunication officers will have an overview of crisis/hostage negotiations\, basic SWAT procedures and basic Incident Command Structure along with what they can do to assist their agency during critical incidents.
URL:https://tahn.org/event/region-1-critical-incident-training-for-telecommunications-officers/
LOCATION:Murphy Police Department\, 206 N Murphy Road\, Murphy\, TX\, 75094\, United States
CATEGORIES:Region 1
ORGANIZER;CN="Texas Association of Hostage Negotiators":MAILTO:region1@tahn.org
END:VEVENT
BEGIN:VEVENT
DTSTART;TZID=America/Chicago:20251113T080000
DTEND;TZID=America/Chicago:20251114T170000
DTSTAMP:20260421T085253
CREATED:20250827T220510Z
LAST-MODIFIED:20251007T201859Z
UID:10000016-1763020800-1763139600@tahn.org
SUMMARY:Region 1 - Strategic Communications Course - Rockwall
DESCRIPTION:This course gives first responders the essential skills for effective communication in high-pressure situations as well as their day to day conversations.  Topics include rapport building\, mastering communication techniques\, and gaining the trust of individuals in crisis.  Through interactive sessions and practical exercises\, participants will learn to navigate complex interactions and achieve positive outcomes.  This class is great introduction into the art of negotiations and established negotiators can benefit as well from the refresher on the fundamental communication skills used in negotiations. \n 
URL:https://tahn.org/event/region-1-strategic-communications-course/
LOCATION:Rockwall Police Training Facility\, 2610 Observation Trail\, Suite 103\, Rockwall\, TX\, 75032\, United States
CATEGORIES:Region 1
ORGANIZER;CN="Texas Association of Hostage Negotiators":MAILTO:region1@tahn.org
END:VEVENT
BEGIN:VEVENT
DTSTART;TZID=America/Chicago:20250728T080000
DTEND;TZID=America/Chicago:20250801T170000
DTSTAMP:20260421T085253
CREATED:20250701T180424Z
LAST-MODIFIED:20250710T225811Z
UID:10000008-1753689600-1754067600@tahn.org
SUMMARY:Region 1 - 40 Hour Hostage/Crisis Negotiation Course - Dallas
DESCRIPTION:This 40-hour course introduces the skillsets to prepare Law Enforcement personnel to become crisis/hostage negotiators. Upon completing this course\, the new negotiator will have an essential understanding of team roles in crisis/hostage negotiations and should be able to perform in any hostage negotiator team member role. This course meets standards set forth by TCOLE and by the State of Texas for wiretap warrants. The class cost is $300 which includes a 1-year TAHN membership. \nThis course covers the following and more: \n\nHistory of Negotiations\nCharacteristics of a Negotiable Incident and Stages of an Incident\nActive Listening and Communication Skills\nHandling Demands\, Effects of Time\nRecognizing Psychological\, Mental and Emotional disorders\, how to recognize them and deal with them\, including Stockholm Syndrome\nThe Effects of Stress\, Stages of Stress and Stress in the Hostage Situation\nTeam Structure\nIntelligence Coordination\nA full day of Realistic Scenarios and Scenario Training\n\nThis training is being provided to local\, state and federal law enforcement personnel which includes law enforcement officers/agents\, peace officers\, detention/corrections officers or communication officers who have a demonstrated professional interest in hostage/crisis negotiations. Identification will be required showing your affiliation with a federal\, state or local law enforcement agency at the beginning of the training. \nTHE CLASS IS CURRENTLY FULL.  IF YOU WOULD LIKE TO BE PLACED ON A WAITLIST PLEASE CONTACT: \nJoseph Thompson \nRegion 1 VP President \nregion1@tahn.org \nCell: 972-463-6430 \n 
URL:https://tahn.org/event/region-1-40-hour-hostage-crisis-negotiation-course-dallas/
LOCATION:Southern Methodist University\, 6300 North Central Expressway\, Dallas\, 75206\, United States
CATEGORIES:Region 1
ORGANIZER;CN="Texas Association of Hostage Negotiators":MAILTO:region1@tahn.org
END:VEVENT
BEGIN:VEVENT
DTSTART;TZID=America/Chicago:20250718T080000
DTEND;TZID=America/Chicago:20250718T170000
DTSTAMP:20260421T085253
CREATED:20250707T192215Z
LAST-MODIFIED:20250711T121920Z
UID:10000010-1752825600-1752858000@tahn.org
SUMMARY:Region 1 - Advanced Crisis Negotiation Class for Team Leaders - Non-Member
DESCRIPTION:This advanced crisis negotiations class is designed for both new and veteran team leaders.  It will equip participants with critical skills for effective crisis team management.  The class delves into essential areas such as Team Selection and Training\, ensuring leaders can build and maintain a cohesive and responsive team. Furthermore\, the curriculum covers the diverse duties of a Team Leader\, including strategic planning\, communication tactics\, and decision making under pressure.  This course is a valuable resource for anyone looking to elevate their crisis negotiation leadership skills. \nThis class is FREE for TAHN Members.  For Non-members the FEE is $60.00. \nFor more information or registration contact: \nJoseph Thompson \nRegion 1 Vice President \nregion1@tahn.org \nCell: 972-463-6430
URL:https://tahn.org/event/region-1-advanced-crisis-negotiation-class-for-team-leaders-non-member/
LOCATION:Mesquite Police Department\, 777 N Galloway Avenue\, Mesquite\, TX\, 75149\, United States
CATEGORIES:Region 1
ORGANIZER;CN="Texas Association of Hostage Negotiators":MAILTO:region1@tahn.org
END:VEVENT
BEGIN:VEVENT
DTSTART;TZID=America/Chicago:20250718T080000
DTEND;TZID=America/Chicago:20250718T170000
DTSTAMP:20260421T085253
CREATED:20250707T190518Z
LAST-MODIFIED:20250711T121558Z
UID:10000009-1752825600-1752858000@tahn.org
SUMMARY:Region 1- Advanced Crisis Negotiation Class for Team Leaders - Members
DESCRIPTION:This advanced crisis negotiations class is designed for both new and veteran team leaders.  It will equip participants with critical skills for effective crisis team management.  The class delves into essential areas such as Team Selection and Training\, ensuring leaders can build and maintain a cohesive and responsive team. Furthermore\, the curriculum covers the diverse duties of a Team Leader\, including strategic planning\, communication tactics\, and decision making under pressure.  This course is a valuable resource for anyone looking to elevate their crisis negotiation leadership skills. \nThis class is FREE for TAHN Members.  For Non-members the FEE is $60.00. \nFor more information or registration contact: \nJoseph Thompson \nRegion 1 Vice President \nregion1@tahn.org \nCell: 972-463-6430 \n 
URL:https://tahn.org/event/region-1-advanced-crisis-negotiation-class-for-team-leaders-members/
LOCATION:Mesquite Police Department\, 777 N Galloway Avenue\, Mesquite\, TX\, 75149\, United States
CATEGORIES:Region 1
ORGANIZER;CN="Texas Association of Hostage Negotiators":MAILTO:region1@tahn.org
END:VEVENT
END:VCALENDAR